Package: ExpressionNormalizationWorkflow Version: 1.36.0 Command: /home/biocbuild/bbs-3.22-bioc/R/bin/R CMD build --keep-empty-dirs --no-resave-data ExpressionNormalizationWorkflow StartedAt: 2025-11-25 13:04:45 -0500 (Tue, 25 Nov 2025) EndedAt: 2025-11-25 13:10:03 -0500 (Tue, 25 Nov 2025) EllapsedTime: 318.1 seconds RetCode: 0 Status: OK PackageFile: ExpressionNormalizationWorkflow_1.36.0.tar.gz PackageFileSize: 3.42 MiB