Package: ExpHunterSuite Version: 1.18.0 Command: /home/biocbuild/bbs-3.22-bioc/R/bin/R CMD INSTALL ExpHunterSuite StartedAt: 2025-11-04 13:01:13 -0500 (Tue, 04 Nov 2025) EndedAt: 2025-11-04 13:02:31 -0500 (Tue, 04 Nov 2025) EllapsedTime: 77.5 seconds RetCode: 0 Status: OK