Package: ExpHunterSuite Version: 1.18.0 Command: /home/biocbuild/bbs-3.22-bioc/R/bin/R CMD build --keep-empty-dirs --no-resave-data ExpHunterSuite StartedAt: 2025-11-04 13:04:57 -0500 (Tue, 04 Nov 2025) EndedAt: 2025-11-04 13:08:48 -0500 (Tue, 04 Nov 2025) EllapsedTime: 231.1 seconds RetCode: 0 Status: OK PackageFile: ExpHunterSuite_1.18.0.tar.gz PackageFileSize: 4.111 MiB