Package: ExpHunterSuite Version: 1.16.0 Command: /home/biocbuild/bbs-3.21-bioc/R/bin/R CMD INSTALL ExpHunterSuite StartedAt: 2025-10-03 13:01:07 -0400 (Fri, 03 Oct 2025) EndedAt: 2025-10-03 13:02:15 -0400 (Fri, 03 Oct 2025) EllapsedTime: 67.9 seconds RetCode: 0 Status: OK