Package: ExpHunterSuite Version: 1.16.0 Command: /home/biocbuild/bbs-3.21-bioc/R/bin/R CMD build --keep-empty-dirs --no-resave-data ExpHunterSuite StartedAt: 2025-10-03 13:04:22 -0400 (Fri, 03 Oct 2025) EndedAt: 2025-10-03 13:08:01 -0400 (Fri, 03 Oct 2025) EllapsedTime: 219.1 seconds RetCode: 0 Status: OK PackageFile: ExpHunterSuite_1.16.0.tar.gz PackageFileSize: 4.111 MiB