Package: ExpHunterSuite Version: 1.16.0 Command: /Library/Frameworks/R.framework/Resources/bin/R CMD INSTALL ExpHunterSuite StartedAt: 2025-10-14 13:04:28 -0400 (Tue, 14 Oct 2025) EndedAt: 2025-10-14 13:07:44 -0400 (Tue, 14 Oct 2025) EllapsedTime: 196.4 seconds RetCode: 0 Status: OK