Package: ExpHunterSuite Version: 1.16.0 Command: /Library/Frameworks/R.framework/Resources/bin/R CMD build --keep-empty-dirs --no-resave-data ExpHunterSuite StartedAt: 2025-10-14 13:10:38 -0400 (Tue, 14 Oct 2025) EndedAt: 2025-10-14 13:19:22 -0400 (Tue, 14 Oct 2025) EllapsedTime: 524.2 seconds RetCode: 0 Status: OK PackageFile: ExpHunterSuite_1.16.0.tar.gz PackageFileSize: 4.112 MiB