Package: CAGEWorkflow Version: 1.26.0 Command: /home/biocbuild/bbs-3.22-bioc/R/bin/R CMD INSTALL CAGEWorkflow StartedAt: 2025-11-25 13:00:36 -0500 (Tue, 25 Nov 2025) EndedAt: 2025-11-25 13:01:09 -0500 (Tue, 25 Nov 2025) EllapsedTime: 33.1 seconds RetCode: 0 Status: OK