Package: CAGEWorkflow Version: 1.26.0 Command: /Library/Frameworks/R.framework/Resources/bin/R CMD INSTALL CAGEWorkflow StartedAt: 2025-11-25 13:02:03 -0500 (Tue, 25 Nov 2025) EndedAt: 2025-11-25 13:03:46 -0500 (Tue, 25 Nov 2025) EllapsedTime: 102.8 seconds RetCode: 0 Status: OK