Package: BiocMetaWorkflow Version: 1.30.0 Command: /Library/Frameworks/R.framework/Resources/bin/R CMD INSTALL BiocMetaWorkflow StartedAt: 2025-10-10 13:00:39 -0400 (Fri, 10 Oct 2025) EndedAt: 2025-10-10 13:00:53 -0400 (Fri, 10 Oct 2025) EllapsedTime: 13.5 seconds RetCode: 1 Status: ERROR