Package: BP4RNAseq Version: 1.20.0 Command: /home/biocbuild/bbs-3.22-bioc/R/bin/R CMD INSTALL BP4RNAseq StartedAt: 2025-11-25 13:00:19 -0500 (Tue, 25 Nov 2025) EndedAt: 2025-11-25 13:00:22 -0500 (Tue, 25 Nov 2025) EllapsedTime: 3.2 seconds RetCode: 0 Status: OK