Package: yeastRNASeq Version: 0.48.0 Command: /home/biocbuild/bbs-3.22-bioc/R/bin/R CMD INSTALL yeastRNASeq StartedAt: 2025-11-18 10:56:03 -0500 (Tue, 18 Nov 2025) EndedAt: 2025-11-18 10:56:31 -0500 (Tue, 18 Nov 2025) EllapsedTime: 27.5 seconds RetCode: 0 Status: OK