Package: yeastRNASeq Version: 0.48.0 Maintainer: J. Bullard MaintainerEmail: bullard at stat.berkeley.edu git_url: https://git.bioconductor.org/packages/yeastRNASeq git_branch: RELEASE_3_22 git_last_commit: 63a51a6 git_last_commit_date: 2025-10-29 09:31:40 -0500 (Wed, 29 Oct 2025)