Package: yeastNagalakshmi Version: 1.42.0 Command: /home/biocbuild/bbs-3.20-bioc/R/bin/R CMD build --keep-empty-dirs --no-resave-data yeastNagalakshmi StartedAt: 2025-02-13 11:42:51 -0500 (Thu, 13 Feb 2025) EndedAt: 2025-02-13 11:42:53 -0500 (Thu, 13 Feb 2025) EllapsedTime: 2.3 seconds RetCode: 0 Status: OK PackageFile: yeastNagalakshmi_1.42.0.tar.gz PackageFileSize: 14.33 MiB