Package: yeastGSData Version: 0.44.0 Command: /home/biocbuild/bbs-3.20-bioc/R/bin/R CMD INSTALL yeastGSData StartedAt: 2025-02-06 10:55:32 -0500 (Thu, 06 Feb 2025) EndedAt: 2025-02-06 10:55:40 -0500 (Thu, 06 Feb 2025) EllapsedTime: 8.7 seconds RetCode: 0 Status: OK