Package: yeastGSData Version: 0.44.0 Command: /home/biocbuild/bbs-3.20-bioc/R/bin/R CMD check --install=check:yeastGSData.install-out.txt --library=/home/biocbuild/bbs-3.20-bioc/R/site-library --timings yeastGSData_0.44.0.tar.gz StartedAt: 2025-01-30 12:54:01 -0500 (Thu, 30 Jan 2025) EndedAt: 2025-01-30 12:55:39 -0500 (Thu, 30 Jan 2025) EllapsedTime: 97.1 seconds RetCode: 0 Status: WARNINGS CheckDir: yeastGSData.Rcheck Warnings: 1