Package: yeastExpData Version: 0.52.0 Command: /home/biocbuild/bbs-3.20-bioc/R/bin/R CMD check --install=check:yeastExpData.install-out.txt --library=/home/biocbuild/bbs-3.20-bioc/R/site-library --timings yeastExpData_0.52.0.tar.gz StartedAt: 2025-02-13 12:52:01 -0500 (Thu, 13 Feb 2025) EndedAt: 2025-02-13 12:52:23 -0500 (Thu, 13 Feb 2025) EllapsedTime: 22.0 seconds RetCode: 0 Status: WARNINGS CheckDir: yeastExpData.Rcheck Warnings: 4