Package: yeastExpData Version: 0.54.0 Command: /home/biocbuild/bbs-3.21-bioc/R/bin/R CMD build --keep-empty-dirs --no-resave-data yeastExpData StartedAt: 2025-10-02 11:45:52 -0400 (Thu, 02 Oct 2025) EndedAt: 2025-10-02 11:46:01 -0400 (Thu, 02 Oct 2025) EllapsedTime: 8.3 seconds RetCode: 0 Status: OK PackageFile: yeastExpData_0.54.0.tar.gz PackageFileSize: 935 KiB