Package: yeastCC Version: 1.46.0 Command: /home/biocbuild/bbs-3.20-bioc/R/bin/R CMD build --keep-empty-dirs --no-resave-data yeastCC StartedAt: 2025-02-11 11:43:43 -0500 (Tue, 11 Feb 2025) EndedAt: 2025-02-11 11:43:45 -0500 (Tue, 11 Feb 2025) EllapsedTime: 2.0 seconds RetCode: 0 Status: OK PackageFile: yeastCC_1.46.0.tar.gz PackageFileSize: 5.842 MiB