Package: vulcandata Version: 1.30.0 Command: /home/biocbuild/bbs-3.21-bioc/R/bin/R CMD INSTALL vulcandata StartedAt: 2025-10-14 10:55:15 -0400 (Tue, 14 Oct 2025) EndedAt: 2025-10-14 10:55:18 -0400 (Tue, 14 Oct 2025) EllapsedTime: 2.3 seconds RetCode: 0 Status: OK