Package: vulcandata Version: 1.30.0 Command: /home/biocbuild/bbs-3.21-bioc/R/bin/R CMD build --keep-empty-dirs --no-resave-data vulcandata StartedAt: 2025-10-14 11:44:39 -0400 (Tue, 14 Oct 2025) EndedAt: 2025-10-14 11:44:50 -0400 (Tue, 14 Oct 2025) EllapsedTime: 10.4 seconds RetCode: 0 Status: OK PackageFile: vulcandata_1.30.0.tar.gz PackageFileSize: 44.75 MiB