Package: tximportData Version: 1.38.0 Command: /home/biocbuild/bbs-3.22-bioc/R/bin/R CMD build --keep-empty-dirs --no-resave-data tximportData StartedAt: 2025-11-20 11:52:07 -0500 (Thu, 20 Nov 2025) EndedAt: 2025-11-20 11:54:34 -0500 (Thu, 20 Nov 2025) EllapsedTime: 146.3 seconds RetCode: 0 Status: OK PackageFile: tximportData_1.38.0.tar.gz PackageFileSize: 385.8 MiB