Package: tuberculosis Version: 1.16.0 Command: /home/biocbuild/bbs-3.22-bioc/R/bin/R CMD INSTALL tuberculosis StartedAt: 2025-11-18 10:59:44 -0500 (Tue, 18 Nov 2025) EndedAt: 2025-11-18 11:00:11 -0500 (Tue, 18 Nov 2025) EllapsedTime: 26.8 seconds RetCode: 0 Status: OK