Package: topdownrdata Version: 1.32.0 Command: /home/biocbuild/bbs-3.22-bioc/R/bin/R CMD build --keep-empty-dirs --no-resave-data topdownrdata StartedAt: 2025-11-18 12:18:17 -0500 (Tue, 18 Nov 2025) EndedAt: 2025-11-18 12:18:25 -0500 (Tue, 18 Nov 2025) EllapsedTime: 7.3 seconds RetCode: 0 Status: OK PackageFile: topdownrdata_1.32.0.tar.gz PackageFileSize: 100.9 MiB