Package: tofsimsData Version: 1.38.0 Command: /home/biocbuild/bbs-3.22-bioc/R/bin/R CMD check --install=check:tofsimsData.install-out.txt --library=/home/biocbuild/bbs-3.22-bioc/R/site-library --timings tofsimsData_1.38.0.tar.gz StartedAt: 2025-11-18 13:50:53 -0500 (Tue, 18 Nov 2025) EndedAt: 2025-11-18 13:51:29 -0500 (Tue, 18 Nov 2025) EllapsedTime: 36.0 seconds RetCode: 0 Status: WARNINGS CheckDir: tofsimsData.Rcheck Warnings: 1