Package: tofsimsData Version: 1.38.0 Command: /home/biocbuild/bbs-3.22-bioc/R/bin/R CMD build --keep-empty-dirs --no-resave-data tofsimsData StartedAt: 2025-11-18 12:18:15 -0500 (Tue, 18 Nov 2025) EndedAt: 2025-11-18 12:18:22 -0500 (Tue, 18 Nov 2025) EllapsedTime: 7.4 seconds RetCode: 0 Status: OK PackageFile: tofsimsData_1.38.0.tar.gz PackageFileSize: 10.5 MiB