Package: tissueTreg Version: 1.28.0 Command: /home/biocbuild/bbs-3.21-bioc/R/bin/R CMD build --keep-empty-dirs --no-resave-data tissueTreg StartedAt: 2025-10-16 11:43:25 -0400 (Thu, 16 Oct 2025) EndedAt: 2025-10-16 11:44:59 -0400 (Thu, 16 Oct 2025) EllapsedTime: 93.8 seconds RetCode: 0 Status: OK PackageFile: tissueTreg_1.28.0.tar.gz PackageFileSize: 684.6 KiB