Package: tinesath1probe Version: 1.46.0 Command: /home/biocbuild/bbs-3.21-bioc/R/bin/R CMD build --keep-empty-dirs --no-resave-data tinesath1probe StartedAt: 2025-10-09 11:43:21 -0400 (Thu, 09 Oct 2025) EndedAt: 2025-10-09 11:43:24 -0400 (Thu, 09 Oct 2025) EllapsedTime: 2.3 seconds RetCode: 0 Status: OK PackageFile: tinesath1probe_1.46.0.tar.gz PackageFileSize: 3.037 MiB