Package: tinesath1cdf Version: 1.46.0 Command: /home/biocbuild/bbs-3.21-bioc/R/bin/R CMD INSTALL tinesath1cdf StartedAt: 2025-10-07 10:55:13 -0400 (Tue, 07 Oct 2025) EndedAt: 2025-10-07 10:55:15 -0400 (Tue, 07 Oct 2025) EllapsedTime: 1.5 seconds RetCode: 0 Status: OK