Package: tinesath1cdf Version: 1.46.0 Command: /home/biocbuild/bbs-3.21-bioc/R/bin/R CMD build --keep-empty-dirs --no-resave-data tinesath1cdf StartedAt: 2025-10-07 11:43:14 -0400 (Tue, 07 Oct 2025) EndedAt: 2025-10-07 11:43:15 -0400 (Tue, 07 Oct 2025) EllapsedTime: 1.3 seconds RetCode: 0 Status: OK PackageFile: tinesath1cdf_1.46.0.tar.gz PackageFileSize: 1.478 MiB