Package: timecoursedata Version: 1.16.0 Command: /home/biocbuild/bbs-3.20-bioc/R/bin/R CMD INSTALL timecoursedata StartedAt: 2025-01-30 11:01:35 -0500 (Thu, 30 Jan 2025) EndedAt: 2025-01-30 11:01:59 -0500 (Thu, 30 Jan 2025) EllapsedTime: 24.1 seconds RetCode: 0 Status: OK