Package: tartare Version: 1.20.0 Command: /home/biocbuild/bbs-3.20-bioc/R/bin/R CMD check --install=check:tartare.install-out.txt --library=/home/biocbuild/bbs-3.20-bioc/R/site-library --timings tartare_1.20.0.tar.gz StartedAt: 2025-02-13 12:43:11 -0500 (Thu, 13 Feb 2025) EndedAt: 2025-02-13 12:44:59 -0500 (Thu, 13 Feb 2025) EllapsedTime: 108.4 seconds RetCode: 0 Status: OK CheckDir: tartare.Rcheck Warnings: 0