Package: tartare Version: 1.22.0 Command: /home/biocbuild/bbs-3.21-bioc/R/bin/R CMD INSTALL tartare StartedAt: 2025-10-16 10:57:29 -0400 (Thu, 16 Oct 2025) EndedAt: 2025-10-16 10:57:42 -0400 (Thu, 16 Oct 2025) EllapsedTime: 13.6 seconds RetCode: 0 Status: OK