Package: systemPipeRdata Version: 2.10.0 Command: /home/biocbuild/bbs-3.20-bioc/R/bin/R CMD INSTALL systemPipeRdata StartedAt: 2025-01-30 10:56:35 -0500 (Thu, 30 Jan 2025) EndedAt: 2025-01-30 10:56:44 -0500 (Thu, 30 Jan 2025) EllapsedTime: 9.3 seconds RetCode: 0 Status: OK