Package: systemPipeRdata Version: 2.10.0 Command: /home/biocbuild/bbs-3.20-bioc/R/bin/R CMD build --keep-empty-dirs --no-resave-data systemPipeRdata StartedAt: 2025-01-30 11:40:02 -0500 (Thu, 30 Jan 2025) EndedAt: 2025-01-30 11:41:11 -0500 (Thu, 30 Jan 2025) EllapsedTime: 69.6 seconds RetCode: 0 Status: OK PackageFile: systemPipeRdata_2.10.0.tar.gz PackageFileSize: 272.7 MiB