Package: synapterdata Version: 1.44.0 Command: /home/biocbuild/bbs-3.20-bioc/R/bin/R CMD check --install=check:synapterdata.install-out.txt --library=/home/biocbuild/bbs-3.20-bioc/R/site-library --timings synapterdata_1.44.0.tar.gz StartedAt: 2025-02-06 12:41:16 -0500 (Thu, 06 Feb 2025) EndedAt: 2025-02-06 12:47:13 -0500 (Thu, 06 Feb 2025) EllapsedTime: 356.6 seconds RetCode: 0 Status: OK CheckDir: synapterdata.Rcheck Warnings: 0