Package: synapterdata Version: 1.46.0 Command: /home/biocbuild/bbs-3.21-bioc/R/bin/R CMD INSTALL synapterdata StartedAt: 2025-10-09 11:03:37 -0400 (Thu, 09 Oct 2025) EndedAt: 2025-10-09 11:04:15 -0400 (Thu, 09 Oct 2025) EllapsedTime: 38.4 seconds RetCode: 0 Status: OK