Package: synapterdata Version: 1.46.0 Command: /home/biocbuild/bbs-3.21-bioc/R/bin/R CMD build --keep-empty-dirs --no-resave-data synapterdata StartedAt: 2025-10-07 11:40:52 -0400 (Tue, 07 Oct 2025) EndedAt: 2025-10-07 11:41:19 -0400 (Tue, 07 Oct 2025) EllapsedTime: 27.2 seconds RetCode: 0 Status: OK PackageFile: synapterdata_1.46.0.tar.gz PackageFileSize: 418.4 MiB