Package: stemHypoxia Version: 1.44.0 Command: /home/biocbuild/bbs-3.21-bioc/R/bin/R CMD INSTALL stemHypoxia StartedAt: 2025-10-07 10:55:53 -0400 (Tue, 07 Oct 2025) EndedAt: 2025-10-07 10:55:56 -0400 (Tue, 07 Oct 2025) EllapsedTime: 3.0 seconds RetCode: 0 Status: OK