Package: stemHypoxia Version: 1.44.0 Command: /home/biocbuild/bbs-3.21-bioc/R/bin/R CMD build --keep-empty-dirs --no-resave-data stemHypoxia StartedAt: 2025-10-07 11:40:44 -0400 (Tue, 07 Oct 2025) EndedAt: 2025-10-07 11:40:45 -0400 (Tue, 07 Oct 2025) EllapsedTime: 1.6 seconds RetCode: 0 Status: OK PackageFile: stemHypoxia_1.44.0.tar.gz PackageFileSize: 2.773 MiB