Package: spqnData Version: 1.18.0 Command: /home/biocbuild/bbs-3.20-bioc/R/bin/R CMD INSTALL spqnData StartedAt: 2025-02-13 11:00:14 -0500 (Thu, 13 Feb 2025) EndedAt: 2025-02-13 11:00:26 -0500 (Thu, 13 Feb 2025) EllapsedTime: 12.7 seconds RetCode: 0 Status: OK