Package: spqnData Version: 1.18.0 Command: /home/biocbuild/bbs-3.20-bioc/R/bin/R CMD check --install=check:spqnData.install-out.txt --library=/home/biocbuild/bbs-3.20-bioc/R/site-library --timings spqnData_1.18.0.tar.gz StartedAt: 2025-02-13 12:40:50 -0500 (Thu, 13 Feb 2025) EndedAt: 2025-02-13 12:41:49 -0500 (Thu, 13 Feb 2025) EllapsedTime: 58.6 seconds RetCode: 0 Status: OK CheckDir: spqnData.Rcheck Warnings: 0