Package: spqnData Version: 1.18.0 Command: /home/biocbuild/bbs-3.20-bioc/R/bin/R CMD build --keep-empty-dirs --no-resave-data spqnData StartedAt: 2025-02-13 11:38:35 -0500 (Thu, 13 Feb 2025) EndedAt: 2025-02-13 11:38:37 -0500 (Thu, 13 Feb 2025) EllapsedTime: 2.3 seconds RetCode: 0 Status: OK PackageFile: spqnData_1.18.0.tar.gz PackageFileSize: 10.17 MiB