Package: spqnData Version: 1.20.0 Command: /home/biocbuild/bbs-3.21-bioc/R/bin/R CMD build --keep-empty-dirs --no-resave-data spqnData StartedAt: 2025-10-09 11:40:46 -0400 (Thu, 09 Oct 2025) EndedAt: 2025-10-09 11:40:49 -0400 (Thu, 09 Oct 2025) EllapsedTime: 3.0 seconds RetCode: 0 Status: OK PackageFile: spqnData_1.20.0.tar.gz PackageFileSize: 10.17 MiB