Package: spatialLIBD Version: 1.18.0 Command: /home/biocbuild/bbs-3.20-bioc/R/bin/R CMD build --keep-empty-dirs --no-resave-data spatialLIBD StartedAt: 2025-02-06 11:37:57 -0500 (Thu, 06 Feb 2025) EndedAt: 2025-02-06 11:43:21 -0500 (Thu, 06 Feb 2025) EllapsedTime: 324.8 seconds RetCode: 0 Status: OK PackageFile: spatialLIBD_1.18.0.tar.gz PackageFileSize: 19.4 MiB