Package: spatialLIBD Version: 1.20.1 Command: /home/biocbuild/bbs-3.21-bioc/R/bin/R CMD check --install=check:spatialLIBD.install-out.txt --library=/home/biocbuild/bbs-3.21-bioc/R/site-library --timings spatialLIBD_1.20.1.tar.gz StartedAt: 2025-10-07 12:59:01 -0400 (Tue, 07 Oct 2025) EndedAt: 2025-10-07 13:19:24 -0400 (Tue, 07 Oct 2025) EllapsedTime: 1223.5 seconds RetCode: 0 Status: OK CheckDir: spatialLIBD.Rcheck Warnings: 0