Package: spatialDmelxsim Version: 1.12.0 Command: /home/biocbuild/bbs-3.20-bioc/R/bin/R CMD INSTALL spatialDmelxsim StartedAt: 2025-02-13 11:01:59 -0500 (Thu, 13 Feb 2025) EndedAt: 2025-02-13 11:02:23 -0500 (Thu, 13 Feb 2025) EllapsedTime: 24.5 seconds RetCode: 0 Status: OK