Package: spatialDmelxsim Version: 1.12.0 Command: /home/biocbuild/bbs-3.20-bioc/R/bin/R CMD check --install=check:spatialDmelxsim.install-out.txt --library=/home/biocbuild/bbs-3.20-bioc/R/site-library --timings spatialDmelxsim_1.12.0.tar.gz StartedAt: 2025-02-13 12:40:02 -0500 (Thu, 13 Feb 2025) EndedAt: 2025-02-13 12:43:07 -0500 (Thu, 13 Feb 2025) EllapsedTime: 185.2 seconds RetCode: 0 Status: OK CheckDir: spatialDmelxsim.Rcheck Warnings: 0