Package: smokingMouse Version: 1.6.0 Command: /home/biocbuild/bbs-3.21-bioc/R/bin/R CMD build --keep-empty-dirs --no-resave-data smokingMouse StartedAt: 2025-10-09 11:40:05 -0400 (Thu, 09 Oct 2025) EndedAt: 2025-10-09 11:40:31 -0400 (Thu, 09 Oct 2025) EllapsedTime: 26.3 seconds RetCode: 0 Status: OK PackageFile: smokingMouse_1.6.0.tar.gz PackageFileSize: 5.107 MiB