Package: simpIntLists Version: 1.42.0 Command: /home/biocbuild/bbs-3.20-bioc/R/bin/R CMD check --install=check:simpIntLists.install-out.txt --library=/home/biocbuild/bbs-3.20-bioc/R/site-library --timings simpIntLists_1.42.0.tar.gz StartedAt: 2025-02-11 12:41:12 -0500 (Tue, 11 Feb 2025) EndedAt: 2025-02-11 12:42:03 -0500 (Tue, 11 Feb 2025) EllapsedTime: 51.3 seconds RetCode: 0 Status: WARNINGS CheckDir: simpIntLists.Rcheck Warnings: 1